BEGIN:VCALENDAR
VERSION:2.0
PRODID:-//UT Austin Portugal - ECPv5.12.2//NONSGML v1.0//EN
CALSCALE:GREGORIAN
METHOD:PUBLISH
X-WR-CALNAME:UT Austin Portugal
X-ORIGINAL-URL:https://utaustinportugal.org
X-WR-CALDESC:Events for UT Austin Portugal
BEGIN:VTIMEZONE
TZID:UTC
BEGIN:STANDARD
TZOFFSETFROM:+0000
TZOFFSETTO:+0000
TZNAME:UTC
DTSTART:20180101T000000
END:STANDARD
END:VTIMEZONE
BEGIN:VEVENT
DTSTART;TZID=UTC:20180216T100000
DTEND;TZID=UTC:20180216T160000
DTSTAMP:20260421T200039
CREATED:20181108T091325Z
LAST-MODIFIED:20190513T151450Z
UID:418-1518775200-1518796800@utaustinportugal.org
SUMMARY:UT Austin and Portugal - Building the Future
DESCRIPTION:Within the UT Austin | Portugal Program\, the workshop “UT Austin and Portugal — Building the Future” will take place on February 16th\, at UPTEC\, Porto.\nThe workshop follows the ceremony for the signature of the new collaboration agreements between the Portuguese Government and the international partnerships and aims at presenting and discussing the opportunities and challenges brought by the topics of the third phase of the Program: Advanced Computing\, Atlantic Interactions\, Medical Physics and Nano Materials. In a dialogue with the Program community\, the workshop will address the following themes: \n\nThe enabling role that Advanced Computing infrastructures and services play in advancing the state of the art of a multitude of scientific areas\, including Nano Materials;\nThe role of the University Technology Enterprise Network (UTEN) as a leverage to foster commercialization of Nano Materials to global markets;\nThe scientific and economic potential of Space and Earth Observation research.\n\n \nA brief description of the agenda can be found here.
URL:https://utaustinportugal.org/events/ut-austin-and-portugal-building-the-future/
LOCATION:UPTEC – Edifício Central\, Rua Alfredo Allen\, nº 455/461\, Porto\, Porto\, 4200-135\, Portugal
CATEGORIES:Advanced Computing,Nanotechnologies,Space-Earth Interactions,Technology Innovation and Entrepreneurship,Workshop
ATTACH;FMTTYPE=image/jpeg:https://utaustinportugal.org/wp-content/uploads/2018/11/Banner-February.jpg
END:VEVENT
END:VCALENDAR