BEGIN:VCALENDAR
VERSION:2.0
PRODID:-//UT Austin Portugal - ECPv5.12.2//NONSGML v1.0//EN
CALSCALE:GREGORIAN
METHOD:PUBLISH
X-WR-CALNAME:UT Austin Portugal
X-ORIGINAL-URL:https://utaustinportugal.org
X-WR-CALDESC:Events for UT Austin Portugal
BEGIN:VTIMEZONE
TZID:UTC
BEGIN:STANDARD
TZOFFSETFROM:+0000
TZOFFSETTO:+0000
TZNAME:UTC
DTSTART:20180101T000000
END:STANDARD
END:VTIMEZONE
BEGIN:VEVENT
DTSTART;VALUE=DATE:20180702
DTEND;VALUE=DATE:20180707
DTSTAMP:20260423T012255
CREATED:20190412T170830Z
LAST-MODIFIED:20190517T133317Z
UID:2077-1530489600-1530921599@utaustinportugal.org
SUMMARY:EMERGENCE - Digital Media Science Communication Hackathon
DESCRIPTION:This event aims to bring together scientists\, programmers\, artists\, and others to jointly communicate complex concepts in scientific research by leveraging digital media technologies. \nIn this 5-day intensive event\, participants will be immersed in a collaborative environment\, exploring digital media technologies (eg\, film\, interactive technologies\, VR) with a focus on creating stories for both linear and experiential experiences. \nThroughout the event\, each team will have the support of a mentor\, who will assume the role of producer\, ensuring that each team is on track to complete their project in the time allowed. \n \nSponsored by the Fundação para a Ciência e a Tecnologia (Portuguese Foundation for Science and Technology) through the UT Austin Portugal Program \nRegistration and more information: http://emergencehackathon.com/
URL:https://utaustinportugal.org/events/emergence-digital-media-science-communication-hackathon/
LOCATION:NOVA FCSH\, Lisboa\, Portugal
CATEGORIES:Advanced Computing
ATTACH;FMTTYPE=image/jpeg:https://utaustinportugal.org/wp-content/uploads/2019/04/Emergence.jpg
END:VEVENT
BEGIN:VEVENT
DTSTART;VALUE=DATE:20180704
DTEND;VALUE=DATE:20180705
DTSTAMP:20260423T012255
CREATED:20180701T144336Z
LAST-MODIFIED:20190503T135839Z
UID:491-1530662400-1530748799@utaustinportugal.org
SUMMARY:UT Austin and Portugal @ Ciência 2018 - Emerging Challenges of Knowledge
DESCRIPTION:This session aims at presenting and discussing the opportunities and challenges brought by the topics of the third phase of the UT Austin Portugal Program: Advanced Computing\, Earth Interactions\, Medical Physics\, Nanotechnologies\, and UTEN\, and will have the participation of experts to discuss challenges to be addressed in the medium and long-term in each of these emerging areas of knowledge. \nSESSION PROGRAM\nLocation: Room C \nTime: 11:30AM \nWelcome words\nJosé Manuel Mendonça\, Interim National Director\, UT Austin Portugal Program \nUT Austin and Portugal – Emerging Challenges of Knowledge\nModerator: Vasco Varela (PETsys)\nAdvanced Computing: Paulo Mateus (IST)\nNanotechnologies: Cristina Freire (FCUP) and Paulo Freitas (INL)\nMedical Physics: José Marques (CTNS)\nEarth Interactions: Isabel Trigo (IPMA) and Nuno Rocha (INEGI)\nUTEN: João Claro (INESC TEC)\nFinal discussion \nLife streaming demonstration\nEmergence Hackathon – How to communicate complex concepts in scientific research\nGustavo Magalhães and Tiago Gama Rocha (Ph. D. Alumnus\, Digital Media UT Austin Portugal Program) \nRegister here to have full access to the Encontro Ciência 2018 event. Entrance is free.
URL:https://utaustinportugal.org/events/ut-austin-and-portugal-emerging-challenges-of-knowledge/
LOCATION:Lisbon Congress Center\, Praça das Indústrias\, Lisboa\, Lisboa\, 1300-307\, Portugal
CATEGORIES:Institutional,Scientific Meeting
ATTACH;FMTTYPE=image/jpeg:https://utaustinportugal.org/wp-content/uploads/2018/07/Banner-Lisboa.jpg
END:VEVENT
END:VCALENDAR