BEGIN:VCALENDAR
VERSION:2.0
PRODID:-//UT Austin Portugal - ECPv5.12.2//NONSGML v1.0//EN
CALSCALE:GREGORIAN
METHOD:PUBLISH
X-WR-CALNAME:UT Austin Portugal
X-ORIGINAL-URL:https://utaustinportugal.org
X-WR-CALDESC:Events for UT Austin Portugal
BEGIN:VTIMEZONE
TZID:UTC
BEGIN:STANDARD
TZOFFSETFROM:+0000
TZOFFSETTO:+0000
TZNAME:UTC
DTSTART:20190101T000000
END:STANDARD
END:VTIMEZONE
BEGIN:VEVENT
DTSTART;VALUE=DATE:20191028
DTEND;VALUE=DATE:20191031
DTSTAMP:20260422T001940
CREATED:20191016T112249Z
LAST-MODIFIED:20191016T112710Z
UID:4596-1572220800-1572479999@utaustinportugal.org
SUMMARY:AED Days 2019
DESCRIPTION:Overview\nAt the AED Days\, participants have the unique chance to meet with the main national and international stakeholders of the Aeronautics\, Space and Defence industries. \nIn three days\, all are gathered in one place\, to debate the present and future challenges and to seek collaborations and business partnerships. \nLast year\, 430 participants\, representing 250 companies\, from 18 different countries\, attended the event. \nThis year\, the event will take place between October 28-30\, at TagusPark. \nAED Cluster Portugal (AEDCP) is the Portuguese Cluster of the Aeronautics\, Space and Defence Industries and was created in 2016 as a private non-for-profit organization. AED Cluster Portugal mission is to provide a one-stop-shop and entry point in Portugal for national and international stakeholders\, providing an effective hub and cluster networking environment for cooperation\, growth and competitiveness of the Portuguese industrial\, scientific and technological communities. \n  \nProgram\nThe event’s agenda includes a full conference day\, workshops\, B2B meetings and industry visits. Check the full program here. \n  \nRegistration\nRegistration for the event is open until October 21.\nSee more ticket information here. \n  \nFor additional information\, please contact the event organizares at aed@aedportugal.pt. 
URL:https://utaustinportugal.org/events/aed-days-2019/
LOCATION:Tagus Park\, Núcleo Central\, Av. Professor Cavaco Silva\, Oeiras\, Portugal
CATEGORIES:Conference,Space-Earth Interactions
ATTACH;FMTTYPE=image/png:https://utaustinportugal.org/wp-content/uploads/2019/10/aed.png
END:VEVENT
END:VCALENDAR