BEGIN:VCALENDAR
VERSION:2.0
PRODID:-//UT Austin Portugal - ECPv5.12.2//NONSGML v1.0//EN
CALSCALE:GREGORIAN
METHOD:PUBLISH
X-WR-CALNAME:UT Austin Portugal
X-ORIGINAL-URL:https://utaustinportugal.org
X-WR-CALDESC:Events for UT Austin Portugal
BEGIN:VTIMEZONE
TZID:UTC
BEGIN:STANDARD
TZOFFSETFROM:+0000
TZOFFSETTO:+0000
TZNAME:UTC
DTSTART:20190101T000000
END:STANDARD
END:VTIMEZONE
BEGIN:VEVENT
DTSTART;VALUE=DATE:20191111
DTEND;VALUE=DATE:20191113
DTSTAMP:20260421T221135
CREATED:20191015T141801Z
LAST-MODIFIED:20201103T152335Z
UID:4553-1573430400-1573603199@utaustinportugal.org
SUMMARY:Interdisciplinary Earth Observation (EO): Land\, Ocean\, and Atmosphere Workshop
DESCRIPTION:The UT Austin Portugal Program invites you to participate in the Interdisciplinary Earth Observation (EO) workshop\, to be held at INESC TEC\, learning from senior researchers and practitioners across different fields through theoretical sessions and hands-on training modules. \nRegistration is now CLOSED. \n  \nAre you an EO scientist or an EO-based solutions provider\, business user \nor decision maker?\n \nAre you looking for possible partners in order to fully exploit the potential of \nthe EO economy?\n \nOverview\nEarth Observation technologies allow the advancement of science\, management\, and decision-making through the frequent acquisition of multivariate global data. Natural and manmade processes and features can be identified\, monitored\, and characterized in unprecedented ways. Earth Observation systems like Europe’s Sentinels\, the American Landsat\, or sensors on-board the International Space Station\, provide near real-time data useful for ocean\, land\, and atmospheric research and applications. Leveraging and interpreting the enormous volume of data produced by such systems requires specific skills\, which are often interdisciplinary in their nature. Mining Space-based Big Data relies increasingly on machine and deep-learning techniques\, bringing together two fields of enormous potential but complex requirements. \n  \nDespite the challenges\, businesses and public agencies alike are incorporating EO data in operations\, which are now employed in a routine manner. To do so\, training professionals from a broad range of non-space disciplines is a critical step to ensure the correct use and incorporation of satellite data in Earth-centred research and applications. Building businesses relying on satellite data also entails specific challenges and opportunities\, requiring strategies capable of coping with a rapidly evolving industry and state-of-the-art. \n  \nThis “Interdisciplinary Earth Observation: Land\, Ocean and Atmosphere” workshop provides hands-on training on a broad range of topics\, including practical examples under the guidance of seasoned experts from American and Portuguese agencies\, universities\, and private companies. Each session includes theoretical and hands-on components\, taught by senior researchers in each field. \n  \nWould you like to benefit from a free 3-month tutorial program for new EO partnering opportunities?\nFollow-up Program\nPlease note the event is supplemented by a follow-up program\, open to registered participants\, who can access tutorial guidance on the topics addressed in this 2-day event. This follow-up program is designed to support the implementation of complement projects within the scope of the workshop. Activities include technical and tutorial support in the domains of Earth Observation\, provided for a period of 3 months by the workshop coordinator and assisted by lecturers of the event and other experts. \n  \nProgram\n(Scientific Coordination: Vasco Mantas\, University of Coimbra) \nNovember 11\n8:30  | Registration\n9:00  | Institutional Video & Welcome Remarks  \n(Rui Oliveira\, National Co-Director\, UT Austin Portugal Program)\n9:15  | Space-Earth Interactions – A strategic area for UT Austin Portugal \n(Luísa Bastos\, UT Austin Portugal Area Co-Director Space-Earth Interactions)\n9: 45 | Workshop Overview \n(Vasco Mantas\, University of Coimbra)\n10:00 | Development of National Land Change Products\n(George Xian\, U.S. Geological Survey\, Earth Resources Observation and Science Center)\n11:00  | Coffee Break\n11:15  | Satellite-based Global Precipitation Data and Services at NASA GES DISC Part I\n(Zhong Liu\, NASA and George Mason University)\n12:15  | Networking Lunch\n13:30  | Satellite-based Global Precipitation Data and Services at NASA GES DISC Part II \n(Zhong Liu\, NASA and George Mason University)\n15:30  | Coffee break\n16:00  | Multi-satellite Land Data Assimilation\n(Zong-Liang Yang\, The University of Texas at Austin)\n17:30  | Registration moment for the follow-up program\n18:00  | Day one wrap-up \n\nNovember 12\n8:30  | Registration\n9:00  | Near coast Bathymetry based on wave characteristics – Inverse methods\n(Paulo Baganha\, University of Aveiro)\n10:00 | Near coast Bathymetry based on wave characteristics – Inverse methods: Case study\n(Sandra Fernandez\, University of Aveiro)\n10:45 | Coffee Break\n11:00 | The current challenges and opportunities in the Commercial sector EO\n(Koushik Panda\, Deimos)\n12:00 | A blueprint for space-based forest monitoring? FOCUS and the future of operational services in Europe (Vasco Mantas\, University of Coimbra)\n13:00 | Closing Remarks \n  \nTarget Audience\nThis workshop targets undergraduate and graduate students\, professional users of geospatial data and decision makers. A basic understanding of Earth Observation technologies and GIS is recommended. \n  \nRegistration\nAttendance is free of charge but limited to 20 participants for each day of the workshop. Selection will be made by order of registration. Note that although you may register for only one day of the workshop (day 1 or day 2)\, we highly recommend participants planning to only attend day 2 to also register for the previous day. \nRegistration is now CLOSED. \n  \nRequirements\nParticipants are expected to bring a laptop. A list of required software (if any) will be provided in a timely manner\, via email. \n  \nThis event is organized by the UT Austin Portugal Program and the Area of Space-Earth Interactions\, with the support of the University of Coimbra and H2020 project FOCUS \nFor additional queries and information\, contact us at events@utaustinportugal.org  
URL:https://utaustinportugal.org/events/interdisciplinary-earth-observation-workshop/
LOCATION:INESC TEC\, Rua Dr. Roberto Frias\, Campus da FEUP\, Porto\, 4200-465\, Portugal
CATEGORIES:Space-Earth Interactions,Workshop
ATTACH;FMTTYPE=image/jpeg:https://utaustinportugal.org/wp-content/uploads/2019/10/Space-Hearth-Interations19_Banners-06.jpg
END:VEVENT
END:VCALENDAR