BEGIN:VCALENDAR
VERSION:2.0
PRODID:-//UT Austin Portugal - ECPv5.12.2//NONSGML v1.0//EN
CALSCALE:GREGORIAN
METHOD:PUBLISH
X-WR-CALNAME:UT Austin Portugal
X-ORIGINAL-URL:https://utaustinportugal.org
X-WR-CALDESC:Events for UT Austin Portugal
BEGIN:VTIMEZONE
TZID:UTC
BEGIN:STANDARD
TZOFFSETFROM:+0000
TZOFFSETTO:+0000
TZNAME:UTC
DTSTART:20200101T000000
END:STANDARD
END:VTIMEZONE
BEGIN:VEVENT
DTSTART;VALUE=DATE:20200123
DTEND;VALUE=DATE:20200214
DTSTAMP:20260421T183928
CREATED:20200123T165144Z
LAST-MODIFIED:20200123T165144Z
UID:5267-1579737600-1581638399@utaustinportugal.org
SUMMARY:I SEA Project - Virtual Reality Experience
DESCRIPTION:The UT Austin Portugal Program invites you to participate in a virtual reality experience\, developed within the scope of the I SEA project\, an exploratory research project financed by FCT in the frame of our 2017 Exploratory Research Projects Call. \nIn this experience\, you can go on a virtual expedition to the deep sea of ​​the Azores\, get to know its ecosystems\, make decisions and complete missions. \nThe experience\, which is individual and with the approximate duration of an hour\, will take place at Porto Planetarium. You can participate starting today and until February 13\, 2020! \nRegistration\nParticipation is voluntary and free. You must express your availability by visiting this link (indicating your name and\, if you wish\, a phone contact). \nCondition: Please note that people partaking in this experience must be over 18. \nContacts\nFor more information about I SEA\, visit www.fc.up.pt/isea \nteresa.aguiar@fc.up.pt | ana.teixeira@fc.up.pt |920 270 949 \n 
URL:https://utaustinportugal.org/events/i-sea-project-virtual-reality-experience/
LOCATION:Planetário do Porto\, Rua das Estrelas\, Porto\, 4150-762\, Portugal
CATEGORIES:Space-Earth Interactions
ATTACH;FMTTYPE=image/png:https://utaustinportugal.org/wp-content/uploads/2020/01/iSea_Logo_Pq-300x182.png
END:VEVENT
END:VCALENDAR